BEGIN:VCALENDAR
VERSION:2.0
PRODID:-//Robert Patrick Henry - ECPv6.15.1.1//NONSGML v1.0//EN
CALSCALE:GREGORIAN
METHOD:PUBLISH
X-ORIGINAL-URL:https://robertpatrickhenry.com
X-WR-CALDESC:Events for Robert Patrick Henry
REFRESH-INTERVAL;VALUE=DURATION:PT1H
X-Robots-Tag:noindex
X-PUBLISHED-TTL:PT1H
BEGIN:VTIMEZONE
TZID:UTC
BEGIN:STANDARD
TZOFFSETFROM:+0000
TZOFFSETTO:+0000
TZNAME:UTC
DTSTART:20220101T000000
END:STANDARD
END:VTIMEZONE
BEGIN:VEVENT
DTSTART;VALUE=DATE:20220521
DTEND;VALUE=DATE:20220522
DTSTAMP:20260425T204334
CREATED:20211110T210128Z
LAST-MODIFIED:20211110T210128Z
UID:330-1653091200-1653177599@robertpatrickhenry.com
SUMMARY:Steely Dan with Steve Winwood
DESCRIPTION:
URL:https://robertpatrickhenry.com/event/steely-dan-with-steve-winwood/
LOCATION:White River Amphitheater\, Auburn\, WA
END:VEVENT
END:VCALENDAR